BEGIN:VCALENDAR
VERSION:2.0
PRODID:-//eventon.com NONSGML v1.0//EN
CALSCALE:GREGORIAN
METHOD:PUBLISH
BEGIN:VEVENT
UID:69ecf12a04ab1
DTSTAMP:20260425T165154Z
DTSTART:20260317T143000Z
DTEND:20260319T233000Z
LOCATION:Centro de transmisión Llogsa
SUMMARY:Líquidos Penetrantes Nivel I y II
DESCRIPTION:Curso de Líquidos Penetrantes Nivel l y ll en línea\,  según
  SNT-TC-1A Constancia de participación e informe de calificaciones Fecha d
 e curso a un común acuerdo El curso es en línea\,  impartido en nuestras 
 instalaciones La duración del curso es de 24 horas. Temario Principios bá
 sicos. Selección del método apropiado[..]\nhttps://llogsa.mx/events/liqui
 dos-penetrantes-nivel-i-y-ii-6/
URL:https://llogsa.mx/events/liquidos-penetrantes-nivel-i-y-ii-6/
END:VEVENT
END:VCALENDAR