BEGIN:VCALENDAR
VERSION:2.0
PRODID:-//eventon.com NONSGML v1.0//EN
CALSCALE:GREGORIAN
METHOD:PUBLISH
BEGIN:VEVENT
UID:69ed05d5bd4b8
DTSTAMP:20260425T182005Z
DTSTART:20260505T143000Z
DTEND:20260507T233000Z
LOCATION:Centro de CapacitaciÃ³n QuerÃ©taro Ave. Universidad 47 col. Centro. 76000
SUMMARY:MediciÃ³n de Espesores Nivel II
DESCRIPTION:Curso de MediciÃ³n de Espesores Nivel I y II Presencial\,  SegÃ
 ºn lo indicado en el documento SNT-TC-1A El curso es para una persona El cu
 rso es impartido en las instalaciones de Cyrus Tech\,  SA de CV Fecha de cu
 rso de acuerdo al programa de curso El curso es teÃ³rico-prÃ¡ctico La[..]\n
 https://llogsa.mx/events/medicion-de-espesores-nivel-ii-2/
URL:https://llogsa.mx/events/medicion-de-espesores-nivel-ii-2/
END:VEVENT
END:VCALENDAR