BEGIN:VCALENDAR
VERSION:2.0
PRODID:-//eventon.com NONSGML v1.0//EN
CALSCALE:GREGORIAN
METHOD:PUBLISH
BEGIN:VEVENT
UID:69ecf0ed0b1fe
DTSTAMP:20260425T165053Z
DTSTART:20260623T143000Z
DTEND:20260626T233000Z
LOCATION:Centro de transmisión Llogsa
SUMMARY:Medición de Espesores II
DESCRIPTION:Curso Medición de Espesores en línea\,  según SNT-TC-1A 1.Co
 nstancia de participación e informe de calificaciones 2.Fecha de curso de 
 acuerdo al calendario 3.El curso es en línea\,  impartido en nuestras inst
 alaciones 4.La duración del curso es de 24 horas. Temario • Consideracio
 nes generales. • Principios básicos de acústica. • Equipo.[..]\nhttps
 ://llogsa.mx/events/medicion-de-espesores-ii/
URL:https://llogsa.mx/events/medicion-de-espesores-ii/
END:VEVENT
END:VCALENDAR